BEGIN:VCALENDAR
VERSION:2.0
PRODID:-//https://www.daiquirideck.com///NONSGML kigkonsult.se iCalcreator 2.10.15//
METHOD:PUBLISH
BEGIN:VEVENT
UID:20260424T155718UTC-8376e3UvFS@https://www.daiquirideck.com/
DTSTAMP:20260424T155718Z
DESCRIPTION: https://www.daiquirideck.com/component/rseventspro/event/4179-
 3p-tim-mccaig?Itemid=101
DTSTART;VALUE=DATE:20260530
LOCATION:Daiquiri Deck Bradenton Beach (107 Bridge St\, Bradenton Beach\, F
 L 34217)
SUMMARY:3p Tim McCaig
URL:https://www.daiquirideck.com/component/rseventspro/event/4179-3p-tim-mc
 caig?Itemid=101
END:VEVENT
END:VCALENDAR
